BEGIN:VCALENDAR
VERSION:2.0
PRODID:-//Südliches Anhalt - ECPv6.15.20//NONSGML v1.0//EN
CALSCALE:GREGORIAN
METHOD:PUBLISH
X-WR-CALNAME:Südliches Anhalt
X-ORIGINAL-URL:https://www.suedliches-anhalt.de
X-WR-CALDESC:Veranstaltungen für Südliches Anhalt
REFRESH-INTERVAL;VALUE=DURATION:PT1H
X-Robots-Tag:noindex
X-PUBLISHED-TTL:PT1H
BEGIN:VTIMEZONE
TZID:Europe/Berlin
BEGIN:DAYLIGHT
TZOFFSETFROM:+0100
TZOFFSETTO:+0200
TZNAME:CEST
DTSTART:20240331T010000
END:DAYLIGHT
BEGIN:STANDARD
TZOFFSETFROM:+0200
TZOFFSETTO:+0100
TZNAME:CET
DTSTART:20241027T010000
END:STANDARD
BEGIN:DAYLIGHT
TZOFFSETFROM:+0100
TZOFFSETTO:+0200
TZNAME:CEST
DTSTART:20250330T010000
END:DAYLIGHT
BEGIN:STANDARD
TZOFFSETFROM:+0200
TZOFFSETTO:+0100
TZNAME:CET
DTSTART:20251026T010000
END:STANDARD
BEGIN:DAYLIGHT
TZOFFSETFROM:+0100
TZOFFSETTO:+0200
TZNAME:CEST
DTSTART:20260329T010000
END:DAYLIGHT
BEGIN:STANDARD
TZOFFSETFROM:+0200
TZOFFSETTO:+0100
TZNAME:CET
DTSTART:20261025T010000
END:STANDARD
END:VTIMEZONE
BEGIN:VEVENT
DTSTART;TZID=Europe/Berlin:20250512T170000
DTEND;TZID=Europe/Berlin:20250512T180000
DTSTAMP:20260421T110624
CREATED:20250424T091618Z
LAST-MODIFIED:20250424T091618Z
UID:10000107-1747069200-1747072800@www.suedliches-anhalt.de
SUMMARY:Verkehrsteilnehmerschulung im Ortsteil Zehmitz
DESCRIPTION:Die nächste Verkehrsteilnehmerschulung findet im Ortsteil Zehmitz in der Gaststätte „Vogel“ am 12. Mai 2025 um 17.00 Uhr statt.\nAlle Verkehrsteilnehmer und Interessierte sind herzlich eingeladen. \nKl. Walter\nKreisverkehrswacht Köthen
URL:https://www.suedliches-anhalt.de/veranstaltungen/verkehrsteilnehmerschulung-im-ortsteil-zehmitz-2/
LOCATION:Gaststätte „Vogel“\, Zemitz\, Sachsen-Anhalt\, 06369
CATEGORIES:Zehmitz
ATTACH;FMTTYPE=image/webp:https://www.suedliches-anhalt.de/wp-content/uploads/2023/07/bike-path-g4780439c0_1280.webp
END:VEVENT
END:VCALENDAR