BEGIN:VCALENDAR
VERSION:2.0
PRODID:-//Südliches Anhalt - ECPv6.15.20//NONSGML v1.0//EN
CALSCALE:GREGORIAN
METHOD:PUBLISH
X-ORIGINAL-URL:https://www.suedliches-anhalt.de
X-WR-CALDESC:Veranstaltungen für Südliches Anhalt
REFRESH-INTERVAL;VALUE=DURATION:PT1H
X-Robots-Tag:noindex
X-PUBLISHED-TTL:PT1H
BEGIN:VTIMEZONE
TZID:Europe/Berlin
BEGIN:DAYLIGHT
TZOFFSETFROM:+0100
TZOFFSETTO:+0200
TZNAME:CEST
DTSTART:20240331T010000
END:DAYLIGHT
BEGIN:STANDARD
TZOFFSETFROM:+0200
TZOFFSETTO:+0100
TZNAME:CET
DTSTART:20241027T010000
END:STANDARD
BEGIN:DAYLIGHT
TZOFFSETFROM:+0100
TZOFFSETTO:+0200
TZNAME:CEST
DTSTART:20250330T010000
END:DAYLIGHT
BEGIN:STANDARD
TZOFFSETFROM:+0200
TZOFFSETTO:+0100
TZNAME:CET
DTSTART:20251026T010000
END:STANDARD
BEGIN:DAYLIGHT
TZOFFSETFROM:+0100
TZOFFSETTO:+0200
TZNAME:CEST
DTSTART:20260329T010000
END:DAYLIGHT
BEGIN:STANDARD
TZOFFSETFROM:+0200
TZOFFSETTO:+0100
TZNAME:CET
DTSTART:20261025T010000
END:STANDARD
END:VTIMEZONE
BEGIN:VEVENT
DTSTART;VALUE=DATE:20250824
DTEND;VALUE=DATE:20250914
DTSTAMP:20260421T134655
CREATED:20250718T101339Z
LAST-MODIFIED:20250818T081623Z
UID:10000120-1755993600-1757807999@www.suedliches-anhalt.de
SUMMARY:Stadtradeln 2025: Mach mit und fahr für ein grüneres Morgen!
DESCRIPTION:Bist du bereit\, den Verkehr zu entlasten\, CO2 zur sparen und gleichzeitig fit zu bleiben? Dann ist das\nSTADTRADELN genau das Richtige für dich! \nMelde dich jetzt an und radle vom 24.08. bis 13.09. mit uns für ein besseres Klima!\nWarum mitmachen? \n\nGemeinsam für weniger CO2\nSpaß am Radfahren und gleichzeitig die Umwelt schonen\nTop-Gesundheitsvorteile und mehr Bewegung im Alltag\n\nSo funktionierts:\n1. Anmelden: Gehe auf www.stadtradeln.de/landkreis-anhalt-bitterfeld und registriere dich.\n2. Radeln: Sammle vom 24.08. bis 13.09. Kilometer mit deinem Rad.\n3. Punkten: Jede Strecke zählt! \nStadtradeln ist für alle! Egal\, ob du ein erfahrener Radfahrer oder Anfänger bist\, jeder Kilometer zählt!\nSchnapp dir dein Fahrrad\, mach mit und hilf uns dabei\, die Stadt grüner und lebenswerter zu machen. \nMach mit\, sei Teil der Veränderung! \n  \n \nEine Teilnahme an den geführten Radtouren ist kostenfrei. \nDie Kosten für die Teilnahme an der Führung in der Synagoge Gröbzig wird von jedem Teilnehmer\nselber getragen. \nHinweis zur Teilnahme an den geführten Radtouren: \nDie Teilnahme an einer geführten Radtour ist freiwillig und kann jederzeit beendet werden. Es besteht\nkeine Verpflichtung\, die gesamte Strecke mitzufahren. Jeder Teilnehmer kann nach eigenem Ermessen\nein- und aussteigen. Bitte informiert den Klimaschutzbeauftragten bei einem vorzeitigen Ausstieg\,\ndamit der Überblick nicht verloren geht. \nBei Teilnahme an den geführten Radtouren\, bitten wir um Anmeldung per E-Mail. \nKontakt für Anmeldung und Fragen: \nMarvin Schichel (Klimaschutzbeauftragter)\nTel.: 034978/265-62\nMail: mschichel@suedliches-anhalt.de \nDie Aktion STADTRADELN 2025 wird vom Ministerium für Infrastruktur und Digitales und der\nArbeitsgemeinschaft Fahrradfreundliche Kommunen Sachsen-Anhalt e.V. unterstützt.
URL:https://www.suedliches-anhalt.de/veranstaltungen/stadtradeln-2025-mach-mit-und-fahr-fuer-ein-grueneres-morgen/
ATTACH;FMTTYPE=image/jpeg:https://www.suedliches-anhalt.de/wp-content/uploads/2025/07/gef.Radtouren_2.jpg
END:VEVENT
END:VCALENDAR