BEGIN:VCALENDAR
VERSION:2.0
PRODID:-//Südliches Anhalt - ECPv6.15.20//NONSGML v1.0//EN
CALSCALE:GREGORIAN
METHOD:PUBLISH
X-WR-CALNAME:Südliches Anhalt
X-ORIGINAL-URL:https://www.suedliches-anhalt.de
X-WR-CALDESC:Veranstaltungen für Südliches Anhalt
REFRESH-INTERVAL;VALUE=DURATION:PT1H
X-Robots-Tag:noindex
X-PUBLISHED-TTL:PT1H
BEGIN:VTIMEZONE
TZID:Europe/Berlin
BEGIN:DAYLIGHT
TZOFFSETFROM:+0100
TZOFFSETTO:+0200
TZNAME:CEST
DTSTART:20240331T010000
END:DAYLIGHT
BEGIN:STANDARD
TZOFFSETFROM:+0200
TZOFFSETTO:+0100
TZNAME:CET
DTSTART:20241027T010000
END:STANDARD
BEGIN:DAYLIGHT
TZOFFSETFROM:+0100
TZOFFSETTO:+0200
TZNAME:CEST
DTSTART:20250330T010000
END:DAYLIGHT
BEGIN:STANDARD
TZOFFSETFROM:+0200
TZOFFSETTO:+0100
TZNAME:CET
DTSTART:20251026T010000
END:STANDARD
BEGIN:DAYLIGHT
TZOFFSETFROM:+0100
TZOFFSETTO:+0200
TZNAME:CEST
DTSTART:20260329T010000
END:DAYLIGHT
BEGIN:STANDARD
TZOFFSETFROM:+0200
TZOFFSETTO:+0100
TZNAME:CET
DTSTART:20261025T010000
END:STANDARD
END:VTIMEZONE
BEGIN:VEVENT
DTSTART;TZID=Europe/Berlin:20250524T120000
DTEND;TZID=Europe/Berlin:20250524T220000
DTSTAMP:20260421T123702
CREATED:20250424T090530Z
LAST-MODIFIED:20250424T090621Z
UID:14902-1748088000-1748124000@www.suedliches-anhalt.de
SUMMARY:Dorffest in Scheuder am 24. Mai 2025
DESCRIPTION:Am Samstag\, den 24. Mai 2025\, findet im Kulturpark Scheuder das diesjährige Dorffest statt. Einlass ist ab 12.00 Uhr. Die Wettkämpfe im Luftgewehr-Preisschießen und im Preiskegeln beginnen um 13.00 Uhr. Und dann ist auch der Start für das traditionelle Ringreiten.\nDie Sieger in den Wettkämpfen werden mit einem Pokal und einem Gutschein prämiert. Einen Gutschein erhalten ebenso die jeweiligen Zweit- und Drittplatzierten. Die Pferde werden nicht vergessen\, die mit einem Leckerli-Beutel belohnt werden.\nWer sein Glück versuchen möchte\, kann wieder Lose bei der Tombola ziehen. Die Kinder können sich auf der Hüpfburg austoben oder den Spielplatz nutzen. Es kann auch gebastelt und gemalt werden. Wer möchte\, kann sein fußballerisches Können beim Torwandschießen testen.  Heike Schneider ist wieder dabei und sorgt für lustige Gesichter beim Kinderschminken und mit Glitzertattoos.\nAb 15.00 Uhr öffnet die Kaffeestube. Johannes Hempel von der Eventschmiede-Anhalt sorgt für Speisen und Getränke. Wer süße Leckereien mag\, kann sich u.a. auf den Eiswagen freuen.\nDas bunte Programm gestaltet in diesem Jahr „Simones Artistenformation“ aus Dessau. „Ulf’s kleine Blasmusik“ begleitet das Ringreiten und lässt zum Platzkonzert beliebte Melodien erklingen.\nZusätzlich ist ein Flohmarkt geplant\, der vom Lausigktreff e.V. veranstaltet wird.\nDer Eintritt kostet 4\,- €. Für Kinder bis 13 Jahre ist es kostenlos. Die Festbesucher nutzen bitte zum Parken den ehemaligen Gutshof. \nWir freuen uns auf einen Tag voller Spaß und Unterhaltung für Jung und Alt und sagen ein herzliches Willkommen an alle Gäste. \nDer Heimatverein Scheuder e.V.
URL:https://www.suedliches-anhalt.de/veranstaltungen/dorffest-in-scheuder-am-24-mai-2025/
LOCATION:Kulturpark Scheuder\, Scheuder\, Sachsen-Anhalt\, 06386
CATEGORIES:Scheuder
ATTACH;FMTTYPE=image/webp:https://www.suedliches-anhalt.de/wp-content/uploads/2023/07/politik_rathaus.webp
END:VEVENT
END:VCALENDAR