BEGIN:VCALENDAR
VERSION:2.0
PRODID:-//Südliches Anhalt - ECPv6.15.20//NONSGML v1.0//EN
CALSCALE:GREGORIAN
METHOD:PUBLISH
X-WR-CALNAME:Südliches Anhalt
X-ORIGINAL-URL:https://www.suedliches-anhalt.de
X-WR-CALDESC:Veranstaltungen für Südliches Anhalt
REFRESH-INTERVAL;VALUE=DURATION:PT1H
X-Robots-Tag:noindex
X-PUBLISHED-TTL:PT1H
BEGIN:VTIMEZONE
TZID:Europe/Berlin
BEGIN:DAYLIGHT
TZOFFSETFROM:+0100
TZOFFSETTO:+0200
TZNAME:CEST
DTSTART:20230326T010000
END:DAYLIGHT
BEGIN:STANDARD
TZOFFSETFROM:+0200
TZOFFSETTO:+0100
TZNAME:CET
DTSTART:20231029T010000
END:STANDARD
BEGIN:DAYLIGHT
TZOFFSETFROM:+0100
TZOFFSETTO:+0200
TZNAME:CEST
DTSTART:20240331T010000
END:DAYLIGHT
BEGIN:STANDARD
TZOFFSETFROM:+0200
TZOFFSETTO:+0100
TZNAME:CET
DTSTART:20241027T010000
END:STANDARD
BEGIN:DAYLIGHT
TZOFFSETFROM:+0100
TZOFFSETTO:+0200
TZNAME:CEST
DTSTART:20250330T010000
END:DAYLIGHT
BEGIN:STANDARD
TZOFFSETFROM:+0200
TZOFFSETTO:+0100
TZNAME:CET
DTSTART:20251026T010000
END:STANDARD
END:VTIMEZONE
BEGIN:VEVENT
DTSTART;TZID=Europe/Berlin:20240509T100000
DTEND;TZID=Europe/Berlin:20240509T210000
DTSTAMP:20260421T190331
CREATED:20240430T080303Z
LAST-MODIFIED:20240430T090325Z
UID:12163-1715248800-1715288400@www.suedliches-anhalt.de
SUMMARY:Himmelfahrtsfeier in Reupzig am 09.05.2024
DESCRIPTION:Der Freizeit- und Kulturverein Reupzig e. V. lädt am 09.05.2024 zu einer\nfröhlichen Himmelfahrtsfeier am Kulturzentrum auf die Festwiese nach\nReupzig recht herzlich ein.\nAb 10.00 Uhr kann auf einer Betonkegelbahn\, mit automatischer\nKegelaufstellung\, der Beste ermittelt werden.\nAusreichende gastronomische Versorgung ist garantiert (Bier vom Fass\,\nzum Mittag gibt es Gulasch aus der Pfanne\, am Nachmittag gibt es\nKaffee und selbst gebackenen Kuchen\, am Abend Grillwürstchen). Bei\ngutem\, aber auch schlechtem Wetter\, steht ein großes Festzelt zur\nVerfügung.\nWir freuen uns auf Ihren Besuch!
URL:https://www.suedliches-anhalt.de/veranstaltungen/himmelfahrtsfeier-in-reupzig-am-09-05-2024/
LOCATION:Reupzig\, Festwiese\, Reupzig\, Sachsen-Anhalt\, 06369
CATEGORIES:Reupzig
ATTACH;FMTTYPE=image/webp:https://www.suedliches-anhalt.de/wp-content/uploads/2024/04/Bierfass_mit_Hahn.jpg.webp
END:VEVENT
END:VCALENDAR