BEGIN:VCALENDAR
VERSION:2.0
PRODID:-//Südliches Anhalt - ECPv6.15.20//NONSGML v1.0//EN
CALSCALE:GREGORIAN
METHOD:PUBLISH
X-WR-CALNAME:Südliches Anhalt
X-ORIGINAL-URL:https://www.suedliches-anhalt.de
X-WR-CALDESC:Veranstaltungen für Südliches Anhalt
REFRESH-INTERVAL;VALUE=DURATION:PT1H
X-Robots-Tag:noindex
X-PUBLISHED-TTL:PT1H
BEGIN:VTIMEZONE
TZID:Europe/Berlin
BEGIN:DAYLIGHT
TZOFFSETFROM:+0100
TZOFFSETTO:+0200
TZNAME:CEST
DTSTART:20250330T010000
END:DAYLIGHT
BEGIN:STANDARD
TZOFFSETFROM:+0200
TZOFFSETTO:+0100
TZNAME:CET
DTSTART:20251026T010000
END:STANDARD
BEGIN:DAYLIGHT
TZOFFSETFROM:+0100
TZOFFSETTO:+0200
TZNAME:CEST
DTSTART:20260329T010000
END:DAYLIGHT
BEGIN:STANDARD
TZOFFSETFROM:+0200
TZOFFSETTO:+0100
TZNAME:CET
DTSTART:20261025T010000
END:STANDARD
BEGIN:DAYLIGHT
TZOFFSETFROM:+0100
TZOFFSETTO:+0200
TZNAME:CEST
DTSTART:20270328T010000
END:DAYLIGHT
BEGIN:STANDARD
TZOFFSETFROM:+0200
TZOFFSETTO:+0100
TZNAME:CET
DTSTART:20271031T010000
END:STANDARD
END:VTIMEZONE
BEGIN:VEVENT
DTSTART;VALUE=DATE:20260514
DTEND;VALUE=DATE:20260515
DTSTAMP:20260424T081028
CREATED:20260423T115743Z
LAST-MODIFIED:20260423T115743Z
UID:16610-1778716800-1778803199@www.suedliches-anhalt.de
SUMMARY:Himmelfahrtsfeier in Reupzig
DESCRIPTION:Der Freizeit- und Kulturverein Reupzig e. V. lädt am 14.05.2026 recht herzlich zu einer fröhlichen Himmelfahrtsfeier am Kulturzentrum auf die Festwiese nach Reupzig ein. \nAb 10.00 Uhr kann auf einer Betonkegelbahn\, mit automatischer Kegelaufstellung\, der Beste ermittelt werden. Ausreichende gastronomische Versorgung ist garantiert (Bier vom Fass\, Mittags gibt es Gulasch aus der Pfanne\, am Nachmittag gibt es Kaffee und selbst gebackenen Kuchen\, am Abend Grillwürstchen).\nBei gutem\, aber auch schlechtem Wetter\, steht ein großes Festzelt zur Verfügung.
URL:https://www.suedliches-anhalt.de/veranstaltungen/himmelfahrtsfeier-in-reupzig/
LOCATION:Festwiese in Reupzig\, Festwiese\, Reupzig\, Sachsen-Anhalt\, 06369
CATEGORIES:Reupzig
ATTACH;FMTTYPE=image/webp:https://www.suedliches-anhalt.de/wp-content/uploads/2023/07/politik_rathaus.webp
END:VEVENT
END:VCALENDAR