BEGIN:VCALENDAR
VERSION:2.0
PRODID:-//Südliches Anhalt - ECPv6.15.20//NONSGML v1.0//EN
CALSCALE:GREGORIAN
METHOD:PUBLISH
X-WR-CALNAME:Südliches Anhalt
X-ORIGINAL-URL:https://www.suedliches-anhalt.de
X-WR-CALDESC:Veranstaltungen für Südliches Anhalt
REFRESH-INTERVAL;VALUE=DURATION:PT1H
X-Robots-Tag:noindex
X-PUBLISHED-TTL:PT1H
BEGIN:VTIMEZONE
TZID:Europe/Berlin
BEGIN:DAYLIGHT
TZOFFSETFROM:+0100
TZOFFSETTO:+0200
TZNAME:CEST
DTSTART:20250330T010000
END:DAYLIGHT
BEGIN:STANDARD
TZOFFSETFROM:+0200
TZOFFSETTO:+0100
TZNAME:CET
DTSTART:20251026T010000
END:STANDARD
BEGIN:DAYLIGHT
TZOFFSETFROM:+0100
TZOFFSETTO:+0200
TZNAME:CEST
DTSTART:20260329T010000
END:DAYLIGHT
BEGIN:STANDARD
TZOFFSETFROM:+0200
TZOFFSETTO:+0100
TZNAME:CET
DTSTART:20261025T010000
END:STANDARD
BEGIN:DAYLIGHT
TZOFFSETFROM:+0100
TZOFFSETTO:+0200
TZNAME:CEST
DTSTART:20270328T010000
END:DAYLIGHT
BEGIN:STANDARD
TZOFFSETFROM:+0200
TZOFFSETTO:+0100
TZNAME:CET
DTSTART:20271031T010000
END:STANDARD
END:VTIMEZONE
BEGIN:VEVENT
DTSTART;TZID=Europe/Berlin:20260314T090000
DTEND;TZID=Europe/Berlin:20260314T140000
DTSTAMP:20260420T101150
CREATED:20260128T085339Z
LAST-MODIFIED:20260128T085339Z
UID:16306-1773478800-1773496800@www.suedliches-anhalt.de
SUMMARY:Kinderflohmarkt
DESCRIPTION:
URL:https://www.suedliches-anhalt.de/veranstaltungen/kinderflohmarkt/
LOCATION:Aula der Gemeinschaftsschule\, Hallesche Straße 72\, Gröbzig\, Sachsen-Anhalt\, 06388
CATEGORIES:Gröbzig
ATTACH;FMTTYPE=image/webp:https://www.suedliches-anhalt.de/wp-content/uploads/2026/01/14032026_Kinderflohmarkt.webp
END:VEVENT
END:VCALENDAR