BEGIN:VCALENDAR
VERSION:2.0
PRODID:-//Südliches Anhalt - ECPv6.15.20//NONSGML v1.0//EN
CALSCALE:GREGORIAN
METHOD:PUBLISH
X-WR-CALNAME:Südliches Anhalt
X-ORIGINAL-URL:https://www.suedliches-anhalt.de
X-WR-CALDESC:Veranstaltungen für Südliches Anhalt
REFRESH-INTERVAL;VALUE=DURATION:PT1H
X-Robots-Tag:noindex
X-PUBLISHED-TTL:PT1H
BEGIN:VTIMEZONE
TZID:Europe/Berlin
BEGIN:DAYLIGHT
TZOFFSETFROM:+0100
TZOFFSETTO:+0200
TZNAME:CEST
DTSTART:20250330T010000
END:DAYLIGHT
BEGIN:STANDARD
TZOFFSETFROM:+0200
TZOFFSETTO:+0100
TZNAME:CET
DTSTART:20251026T010000
END:STANDARD
BEGIN:DAYLIGHT
TZOFFSETFROM:+0100
TZOFFSETTO:+0200
TZNAME:CEST
DTSTART:20260329T010000
END:DAYLIGHT
BEGIN:STANDARD
TZOFFSETFROM:+0200
TZOFFSETTO:+0100
TZNAME:CET
DTSTART:20261025T010000
END:STANDARD
BEGIN:DAYLIGHT
TZOFFSETFROM:+0100
TZOFFSETTO:+0200
TZNAME:CEST
DTSTART:20270328T010000
END:DAYLIGHT
BEGIN:STANDARD
TZOFFSETFROM:+0200
TZOFFSETTO:+0100
TZNAME:CET
DTSTART:20271031T010000
END:STANDARD
END:VTIMEZONE
BEGIN:VEVENT
DTSTART;TZID=Europe/Berlin:20260425T110000
DTEND;TZID=Europe/Berlin:20260425T160000
DTSTAMP:20260420T112523
CREATED:20260327T083919Z
LAST-MODIFIED:20260327T084329Z
UID:10000163-1777114800-1777132800@www.suedliches-anhalt.de
SUMMARY:Energie- & Sanierungsmesse der Stadt Südliches Anhalt am 25.04.2026
DESCRIPTION:Energie- & Sanierungsmesse 2026 \n„Ihr Zuhause fit für morgen.“ \nSteigende Energiekosten? Sanierungsbedarf? \nJetzt ist der perfekte Zeitpunkt\, Ihr Zuhause zukunftssicher zu machen! \nBesuchen Sie die Energie- & Sanierungsmesse und treffen Sie unsere Fachaussteller: \n\nBuderus -> effiziente Heiztechnik für jedes Zuhause\nEnergieberatung Mitteldeutschland -> individuelle Beratung zu Energieeinsparung & Förderprogrammen\nEnergiezentrale Sachsen-Anhalt GmbH -> moderne Energielösungen\neffiziente für Gebäude\nH.E.R.Z. Holz-\, Energie- und Rohstoffzentrum -> nachhaltige Energie- und Holzlösungen\nKaminbau GmbH Dessau HARK-Kamine -> stilvolle und effiziente Kaminlösungen\nLandesenergieagentur Sachsen-Anhalt GmbH -> unabhängige Beratung für Hausbesitzer zu Energiesparen und Fördermitteln\nOCS Solar System GmbH -> Photovoltaik & Solarstromspeicher für Ihr Eigenheim\nÖltankentsorgung Firma Fischer -> Recycling von Heizungsanlagen\, Anlagenteilen sowie Heizöltanks\nPrefa GmbH -> langlebige und wartungsarme Dach- und Fassadensysteme\nSG Projekt GmbH -> professionelle Sanierungs- und Modernisierungsprojekte\nTBT Mauerwerkstrockenlegung GmbH -> Schutz vor Feuchtigkeit und Bauschäden\nVerbraucherzentrale Sachsen-Anhalt e. V. -> Tipps für Energieeffizienz\, Förderungen und Verbraucherrechte\n\n\nFachvortrag: \n„Durchblick im Förderdschungel. KfW\, BAFA & Co. – wo es jetzt welche Fördermittel für Ihre Sanierung und neue Heizung gibt.“ mit der Energieberatung Mitteldeutschland. Start um 12 Uhr! \nProfitieren Sie von Fachwissen aus erster Hand\, aktuellen Trends und praxisnahen Lösungen für Ihr Zuhause. \nDatum: 25.04.2026\, 11 – 16 Uhr \nOrt: Sport- und Kulturzentrum in Weißandt-Gölzau\, Hauptstraße 31b \nEintritt frei \nMachen Sie Ihr Zuhause nachhaltig\, effizient und wertbeständig\, fit für morgen!
URL:https://www.suedliches-anhalt.de/veranstaltungen/energie-sanierungsmesse-der-stadt-suedliches-anhalt-am-25-04-2026/
LOCATION:Sport- und Kulturzentrum Weißandt-Gölzau\, Hauptstraße 31\, Weißandt-Gölzau\, 06369\, Deutschland
CATEGORIES:Sport- und Kulturzentrum
ATTACH;FMTTYPE=image/webp:https://www.suedliches-anhalt.de/wp-content/uploads/2026/03/Energie-und-Sanierungsmesse-1.webp
END:VEVENT
BEGIN:VEVENT
DTSTART;VALUE=DATE:20260523
DTEND;VALUE=DATE:20260524
DTSTAMP:20260420T112523
CREATED:20260409T095215Z
LAST-MODIFIED:20260409T095215Z
UID:10000166-1779494400-1779580799@www.suedliches-anhalt.de
SUMMARY:Radegaster Brunnenfest
DESCRIPTION:
URL:https://www.suedliches-anhalt.de/veranstaltungen/radegaster-brunnenfest/
LOCATION:Marktplatz\, Radegast\, Sachsen-Anhalt\, 06369
CATEGORIES:Radegast
ATTACH;FMTTYPE=image/webp:https://www.suedliches-anhalt.de/wp-content/uploads/2026/04/Radegast_Brunnenfest2026.webp
END:VEVENT
BEGIN:VEVENT
DTSTART;VALUE=DATE:20260523
DTEND;VALUE=DATE:20260525
DTSTAMP:20260420T112523
CREATED:20260401T084857Z
LAST-MODIFIED:20260401T084857Z
UID:10000164-1779494400-1779667199@www.suedliches-anhalt.de
SUMMARY:Dorf- und Heimatfest in Reupzig am 23./24.05.2026
DESCRIPTION:
URL:https://www.suedliches-anhalt.de/veranstaltungen/dorf-und-heimatfest-in-reupzig-am-23-24-05-2026/
LOCATION:Festwiese in Reupzig\, Festwiese\, Reupzig\, Sachsen-Anhalt\, 06369
CATEGORIES:Reupzig
ATTACH;FMTTYPE=image/webp:https://www.suedliches-anhalt.de/wp-content/uploads/2026/04/Dorf_Heimatfest_Reupzig_Mai.webp
END:VEVENT
BEGIN:VEVENT
DTSTART;VALUE=DATE:20260530
DTEND;VALUE=DATE:20260531
DTSTAMP:20260420T112523
CREATED:20260409T105238Z
LAST-MODIFIED:20260409T105238Z
UID:10000168-1780099200-1780185599@www.suedliches-anhalt.de
SUMMARY:Spendenschwimmen im Freibad Glauzig
DESCRIPTION:
URL:https://www.suedliches-anhalt.de/veranstaltungen/spendenschwimmen-im-freibad-glauzig/
LOCATION:Freibad Glauzig\, Am Mittelgraben 1\, Glauzig\, Sachsen-Anhalt\, 06369\, Deutschland
CATEGORIES:Glauzig
ATTACH;FMTTYPE=image/webp:https://www.suedliches-anhalt.de/wp-content/uploads/2026/04/Spendenschwimmen_Freibad_Glauzig.webp
END:VEVENT
BEGIN:VEVENT
DTSTART;VALUE=DATE:20260620
DTEND;VALUE=DATE:20260621
DTSTAMP:20260420T112523
CREATED:20260409T105010Z
LAST-MODIFIED:20260409T105010Z
UID:10000167-1781913600-1781999999@www.suedliches-anhalt.de
SUMMARY:Spielplatzfest in Rohndorf
DESCRIPTION:
URL:https://www.suedliches-anhalt.de/veranstaltungen/spielplatzfest-in-rohndorf/
LOCATION:Rohndorf\, Rohndorf\, Sachsen-Anhalt
CATEGORIES:Rohndorf
ATTACH;FMTTYPE=image/webp:https://www.suedliches-anhalt.de/wp-content/uploads/2026/04/Spielplatzfest_Rohndorf.webp
END:VEVENT
BEGIN:VEVENT
DTSTART;VALUE=DATE:20260829
DTEND;VALUE=DATE:20260830
DTSTAMP:20260420T112523
CREATED:20260226T115955Z
LAST-MODIFIED:20260226T115955Z
UID:10000161-1787961600-1788047999@www.suedliches-anhalt.de
SUMMARY:750 Jahre Meilendorf
DESCRIPTION:
URL:https://www.suedliches-anhalt.de/veranstaltungen/750-jahre-meilendorf/
LOCATION:Meilendorf\, Meilendorf\, Sachsen-Anhalt\, 06386
CATEGORIES:Meilendorf
ATTACH;FMTTYPE=image/webp:https://www.suedliches-anhalt.de/wp-content/uploads/2026/02/750-Jahre-Meilendorf.webp
END:VEVENT
END:VCALENDAR