BEGIN:VCALENDAR
VERSION:2.0
PRODID:-//Südliches Anhalt - ECPv6.15.20//NONSGML v1.0//EN
CALSCALE:GREGORIAN
METHOD:PUBLISH
X-WR-CALNAME:Südliches Anhalt
X-ORIGINAL-URL:https://www.suedliches-anhalt.de
X-WR-CALDESC:Veranstaltungen für Südliches Anhalt
REFRESH-INTERVAL;VALUE=DURATION:PT1H
X-Robots-Tag:noindex
X-PUBLISHED-TTL:PT1H
BEGIN:VTIMEZONE
TZID:Europe/Berlin
BEGIN:DAYLIGHT
TZOFFSETFROM:+0100
TZOFFSETTO:+0200
TZNAME:CEST
DTSTART:20230326T010000
END:DAYLIGHT
BEGIN:STANDARD
TZOFFSETFROM:+0200
TZOFFSETTO:+0100
TZNAME:CET
DTSTART:20231029T010000
END:STANDARD
BEGIN:DAYLIGHT
TZOFFSETFROM:+0100
TZOFFSETTO:+0200
TZNAME:CEST
DTSTART:20240331T010000
END:DAYLIGHT
BEGIN:STANDARD
TZOFFSETFROM:+0200
TZOFFSETTO:+0100
TZNAME:CET
DTSTART:20241027T010000
END:STANDARD
BEGIN:DAYLIGHT
TZOFFSETFROM:+0100
TZOFFSETTO:+0200
TZNAME:CEST
DTSTART:20250330T010000
END:DAYLIGHT
BEGIN:STANDARD
TZOFFSETFROM:+0200
TZOFFSETTO:+0100
TZNAME:CET
DTSTART:20251026T010000
END:STANDARD
END:VTIMEZONE
BEGIN:VEVENT
DTSTART;TZID=Europe/Berlin:20241109T130000
DTEND;TZID=Europe/Berlin:20241109T160000
DTSTAMP:20260420T181650
CREATED:20240920T083124Z
LAST-MODIFIED:20240920T083124Z
UID:13354-1731157200-1731168000@www.suedliches-anhalt.de
SUMMARY:Mit dem Stadtblasorchester Köthen in den Advent
DESCRIPTION:
URL:https://www.suedliches-anhalt.de/veranstaltungen/mit-dem-stadtblasorchester-koethen-in-den-advent/
LOCATION:Sport- und Kulturzentrum Weißandt-Gölzau\, Hauptstraße 31\, Weißandt-Gölzau\, 06369\, Deutschland
CATEGORIES:Weißandt-Gölzau
ATTACH;FMTTYPE=image/webp:https://www.suedliches-anhalt.de/wp-content/uploads/2024/09/Veranstaltung_9.11.2024.JPG.webp
END:VEVENT
END:VCALENDAR