BEGIN:VCALENDAR
VERSION:2.0
PRODID:-//Südliches Anhalt - ECPv6.15.20//NONSGML v1.0//EN
CALSCALE:GREGORIAN
METHOD:PUBLISH
X-WR-CALNAME:Südliches Anhalt
X-ORIGINAL-URL:https://www.suedliches-anhalt.de
X-WR-CALDESC:Veranstaltungen für Südliches Anhalt
REFRESH-INTERVAL;VALUE=DURATION:PT1H
X-Robots-Tag:noindex
X-PUBLISHED-TTL:PT1H
BEGIN:VTIMEZONE
TZID:Europe/Berlin
BEGIN:DAYLIGHT
TZOFFSETFROM:+0100
TZOFFSETTO:+0200
TZNAME:CEST
DTSTART:20250330T010000
END:DAYLIGHT
BEGIN:STANDARD
TZOFFSETFROM:+0200
TZOFFSETTO:+0100
TZNAME:CET
DTSTART:20251026T010000
END:STANDARD
BEGIN:DAYLIGHT
TZOFFSETFROM:+0100
TZOFFSETTO:+0200
TZNAME:CEST
DTSTART:20260329T010000
END:DAYLIGHT
BEGIN:STANDARD
TZOFFSETFROM:+0200
TZOFFSETTO:+0100
TZNAME:CET
DTSTART:20261025T010000
END:STANDARD
BEGIN:DAYLIGHT
TZOFFSETFROM:+0100
TZOFFSETTO:+0200
TZNAME:CEST
DTSTART:20270328T010000
END:DAYLIGHT
BEGIN:STANDARD
TZOFFSETFROM:+0200
TZOFFSETTO:+0100
TZNAME:CET
DTSTART:20271031T010000
END:STANDARD
END:VTIMEZONE
BEGIN:VEVENT
DTSTART;VALUE=DATE:20260523
DTEND;VALUE=DATE:20260524
DTSTAMP:20260420T124433
CREATED:20260409T095215Z
LAST-MODIFIED:20260409T095215Z
UID:16565-1779494400-1779580799@www.suedliches-anhalt.de
SUMMARY:Radegaster Brunnenfest
DESCRIPTION:
URL:https://www.suedliches-anhalt.de/veranstaltungen/radegaster-brunnenfest/
LOCATION:Marktplatz\, Radegast\, Sachsen-Anhalt\, 06369
CATEGORIES:Radegast
ATTACH;FMTTYPE=image/webp:https://www.suedliches-anhalt.de/wp-content/uploads/2026/04/Radegast_Brunnenfest2026.webp
END:VEVENT
END:VCALENDAR