BEGIN:VCALENDAR
VERSION:2.0
PRODID:-//Südliches Anhalt - ECPv6.15.20//NONSGML v1.0//EN
CALSCALE:GREGORIAN
METHOD:PUBLISH
X-WR-CALNAME:Südliches Anhalt
X-ORIGINAL-URL:https://www.suedliches-anhalt.de
X-WR-CALDESC:Veranstaltungen für Südliches Anhalt
REFRESH-INTERVAL;VALUE=DURATION:PT1H
X-Robots-Tag:noindex
X-PUBLISHED-TTL:PT1H
BEGIN:VTIMEZONE
TZID:Europe/Berlin
BEGIN:DAYLIGHT
TZOFFSETFROM:+0100
TZOFFSETTO:+0200
TZNAME:CEST
DTSTART:20230326T010000
END:DAYLIGHT
BEGIN:STANDARD
TZOFFSETFROM:+0200
TZOFFSETTO:+0100
TZNAME:CET
DTSTART:20231029T010000
END:STANDARD
BEGIN:DAYLIGHT
TZOFFSETFROM:+0100
TZOFFSETTO:+0200
TZNAME:CEST
DTSTART:20240331T010000
END:DAYLIGHT
BEGIN:STANDARD
TZOFFSETFROM:+0200
TZOFFSETTO:+0100
TZNAME:CET
DTSTART:20241027T010000
END:STANDARD
BEGIN:DAYLIGHT
TZOFFSETFROM:+0100
TZOFFSETTO:+0200
TZNAME:CEST
DTSTART:20250330T010000
END:DAYLIGHT
BEGIN:STANDARD
TZOFFSETFROM:+0200
TZOFFSETTO:+0100
TZNAME:CET
DTSTART:20251026T010000
END:STANDARD
END:VTIMEZONE
BEGIN:VEVENT
DTSTART;TZID=Europe/Berlin:20240514T170000
DTEND;TZID=Europe/Berlin:20240514T190000
DTSTAMP:20260421T172009
CREATED:20240430T073406Z
LAST-MODIFIED:20240430T073406Z
UID:12161-1715706000-1715713200@www.suedliches-anhalt.de
SUMMARY:Verkehrsteilnehmerschulung
DESCRIPTION:
URL:https://www.suedliches-anhalt.de/veranstaltungen/verkehrsteilnehmerschulung/
LOCATION:Mehrgenerationenhauses Görzig\, Radegaster Straße 11a\, Görzig\, Sachsen-Anhalt\, 06369\, Deutschland
CATEGORIES:Görzig
ATTACH;FMTTYPE=image/webp:https://www.suedliches-anhalt.de/wp-content/uploads/2024/04/14.05._Verkehrsteilnehmerschlung.jpg.webp
ORGANIZER;CN="Mehrgenerationenhauses G%C3%B6rzig":MAILTO:mgh@suedliches-anhalt.de
END:VEVENT
END:VCALENDAR