BEGIN:VCALENDAR
VERSION:2.0
PRODID:-//Südliches Anhalt - ECPv6.15.20//NONSGML v1.0//EN
CALSCALE:GREGORIAN
METHOD:PUBLISH
X-ORIGINAL-URL:https://www.suedliches-anhalt.de
X-WR-CALDESC:Veranstaltungen für Südliches Anhalt
REFRESH-INTERVAL;VALUE=DURATION:PT1H
X-Robots-Tag:noindex
X-PUBLISHED-TTL:PT1H
BEGIN:VTIMEZONE
TZID:Europe/Berlin
BEGIN:DAYLIGHT
TZOFFSETFROM:+0100
TZOFFSETTO:+0200
TZNAME:CEST
DTSTART:20240331T010000
END:DAYLIGHT
BEGIN:STANDARD
TZOFFSETFROM:+0200
TZOFFSETTO:+0100
TZNAME:CET
DTSTART:20241027T010000
END:STANDARD
BEGIN:DAYLIGHT
TZOFFSETFROM:+0100
TZOFFSETTO:+0200
TZNAME:CEST
DTSTART:20250330T010000
END:DAYLIGHT
BEGIN:STANDARD
TZOFFSETFROM:+0200
TZOFFSETTO:+0100
TZNAME:CET
DTSTART:20251026T010000
END:STANDARD
BEGIN:DAYLIGHT
TZOFFSETFROM:+0100
TZOFFSETTO:+0200
TZNAME:CEST
DTSTART:20260329T010000
END:DAYLIGHT
BEGIN:STANDARD
TZOFFSETFROM:+0200
TZOFFSETTO:+0100
TZNAME:CET
DTSTART:20261025T010000
END:STANDARD
END:VTIMEZONE
BEGIN:VEVENT
DTSTART;TZID=Europe/Berlin:20250419T193000
DTEND;TZID=Europe/Berlin:20250419T210000
DTSTAMP:20260420T125052
CREATED:20250311T100148Z
LAST-MODIFIED:20250311T100148Z
UID:10000097-1745091000-1745096400@www.suedliches-anhalt.de
SUMMARY:Osterfeuer in Reupzig
DESCRIPTION:Am Ostersamstag\, d. 19. April 2025\, beginnt um 19.30 Uhr das Abbrennen des traditionellen\nOsterfeuers am Sportplatz in Reupzig.\nDazu sind alle Bewohner von Reupzig\, Breesen\, Storkau und Friedrichsdorf sowie auch Gäste\nherzlich willkommen.\nFür das leibliche Wohl sorgt die Gaststätte Pfennig ab 18.00 Uhr. \nAchtung!\nEs besteht die Möglichkeit\, Baumverschnitt für das Osterfeuer zum Sportplatz zu bringen\n(keine Baumstämme\, Wurzeln bzw. chemisch behandeltes Holz).\nDazu wird an zwei Terminen\, jeweils am Samstag\, 05.04.2025 und 12.04.2025\, zwischen 9.00\nund 12.00 Uhr\, das Holz von Vertretern des Freizeit- und Kulturvereins und der Freiwilligen\nFeuerwehr angenommen.\nAußerhalb dieser Termine darf kein Holz gebracht werden. \nEs laden ein:\nFreizeit- und Kulturverein Reupzig und\ndie Freiwillige Feuerwehr Reupzig
URL:https://www.suedliches-anhalt.de/veranstaltungen/osterfeuer-in-reupzig/
LOCATION:am Sportplatz in Reupzig\, Reupzig\, Sachsen-Anhalt\, 06369
CATEGORIES:Reupzig
ATTACH;FMTTYPE=image/webp:https://www.suedliches-anhalt.de/wp-content/uploads/2024/03/easter-2197043_1280.jpg.webp
END:VEVENT
END:VCALENDAR