BEGIN:VCALENDAR
VERSION:2.0
PRODID:-//Südliches Anhalt - ECPv6.15.20//NONSGML v1.0//EN
CALSCALE:GREGORIAN
METHOD:PUBLISH
X-ORIGINAL-URL:https://www.suedliches-anhalt.de
X-WR-CALDESC:Veranstaltungen für Südliches Anhalt
REFRESH-INTERVAL;VALUE=DURATION:PT1H
X-Robots-Tag:noindex
X-PUBLISHED-TTL:PT1H
BEGIN:VTIMEZONE
TZID:Europe/Berlin
BEGIN:DAYLIGHT
TZOFFSETFROM:+0100
TZOFFSETTO:+0200
TZNAME:CEST
DTSTART:20240331T010000
END:DAYLIGHT
BEGIN:STANDARD
TZOFFSETFROM:+0200
TZOFFSETTO:+0100
TZNAME:CET
DTSTART:20241027T010000
END:STANDARD
BEGIN:DAYLIGHT
TZOFFSETFROM:+0100
TZOFFSETTO:+0200
TZNAME:CEST
DTSTART:20250330T010000
END:DAYLIGHT
BEGIN:STANDARD
TZOFFSETFROM:+0200
TZOFFSETTO:+0100
TZNAME:CET
DTSTART:20251026T010000
END:STANDARD
BEGIN:DAYLIGHT
TZOFFSETFROM:+0100
TZOFFSETTO:+0200
TZNAME:CEST
DTSTART:20260329T010000
END:DAYLIGHT
BEGIN:STANDARD
TZOFFSETFROM:+0200
TZOFFSETTO:+0100
TZNAME:CET
DTSTART:20261025T010000
END:STANDARD
END:VTIMEZONE
BEGIN:VEVENT
DTSTART;TZID=Europe/Berlin:20250629T100000
DTEND;TZID=Europe/Berlin:20250629T140000
DTSTAMP:20260426T030841
CREATED:20250509T064200Z
LAST-MODIFIED:20250509T064200Z
UID:10000109-1751191200-1751205600@www.suedliches-anhalt.de
SUMMARY:Tag des Bergmanns am 29. Juni 2025 in Weißandt-Gölzau
DESCRIPTION:
URL:https://www.suedliches-anhalt.de/veranstaltungen/tag-des-bergmanns-am-29-juni-2025-in-weissandt-goelzau/
LOCATION:Hof der Stadtverwaltung\, Hauptstraße 31\, Weißandt-Gölzau\, Sachsen-Anhalt\, 06369
CATEGORIES:Weißandt-Gölzau
ATTACH;FMTTYPE=image/webp:https://www.suedliches-anhalt.de/wp-content/uploads/2025/05/Bergmannstag_2025.JPG.webp
END:VEVENT
END:VCALENDAR